BEGIN:VCALENDAR
VERSION:2.0
METHOD:PUBLISH
BEGIN:VEVENT
SUMMARY: Joe Undercover live in concert at Eemnes
PRIORITY:1
CLASS:PUBLIC
TZID:Europe/Amsterdam
DTSTART;VALUE=DATE:20270123
DTEND;VALUE=DATE:20270123
DTSTAMP;VALUE=DATE-TIME:20260401T185147Z
UID:219
DESCRIPTION: 
LOCATION:Eemnes
URL:
BEGIN:VALARM
TRIGGER:-PT2880M
ACTION:DISPLAY
DESCRIPTION:Reminder
END:VALARM
END:VEVENT
END:VCALENDAR
