BEGIN:VCALENDAR
VERSION:2.0
METHOD:PUBLISH
BEGIN:VEVENT
SUMMARY: This is Tina live in concert at Ninove
PRIORITY:1
CLASS:PUBLIC
TZID:Europe/Amsterdam
DTSTART;VALUE=DATE:20260521
DTEND;VALUE=DATE:20260521
DTSTAMP;VALUE=DATE-TIME:20260331T190825Z
UID:153
DESCRIPTION: 
LOCATION:Ninove
URL:
BEGIN:VALARM
TRIGGER:-PT2880M
ACTION:DISPLAY
DESCRIPTION:Reminder
END:VALARM
END:VEVENT
END:VCALENDAR
